BEGIN:VCALENDAR
VERSION:2.0
PRODID:WorCo
X-WR-CALNAME:Maryland International Kite Festival
BEGIN:VEVENT
UID:266972026-04-24
DTSTART:20260424T130000Z
SEQUENCE:0
TRANSP:OPAQUE
DTEND:20260424T210000Z
LOCATION:511 Boardwalk\nOcean City MD 21842
X-APPLE-STRUCTURED-LOCATION;VALUE=URI;X-ADDRESS=511 Boardwalk\nOcean City M
 D 21842;X-APPLE-RADIUS=49;X-TITLE=511 Boardwalk:geo:38.336626,-75.082277
GEO:38.336626;-75.082277
SUMMARY:Maryland International Kite Festival
CLASS:PUBLIC
DESCRIPTION:You are invited to come fly a kite on our beautiful beach in Oc
 ean\nCity\, Maryland!  The Kite Loft welcomes you to come and fly a kite\
 nwith us for three days of kite flying fun. The Maryland International\nKi
 te Exposition will include exhibitions and demonstrations\, stunt and\npow
 er kite lessons. Plus\, giant kite displays and much more!\n
X-ALT-DESC;FMTTYPE=text/html:<p>You are invited to come fly a kite on our b
 eautiful beach in Ocean City\, Maryland!&nbsp\; The Kite Loft welcomes you
  to come and fly a kite with us for three days of kite flying fun. The Mar
 yland International Kite Exposition will include exhibitions and demonstra
 tions\, stunt and power kite lessons. Plus\, giant kite displays and much 
 more!</p>
DTSTAMP:20260424T122707Z
END:VEVENT
END:VCALENDAR