BEGIN:VCALENDAR
VERSION:2.0
PRODID:cigoldcoast.exploreoc.com
X-WR-CALNAME:\"Adult Recess\,\" Happy Hour Specials at Border Bar
BEGIN:VEVENT
UID:7272026-04-242026-04-24
DTSTART:20260424T190000Z
SEQUENCE:0
TRANSP:OPAQUE
DTEND:20260424T190000Z
LOCATION:6401 Coastal Hwy\nOcean City MD 21842
X-APPLE-STRUCTURED-LOCATION;VALUE=URI;X-ADDRESS=6401 Coastal Hwy\nOcean Cit
 y MD 21842;X-APPLE-RADIUS=49;X-TITLE=6401 Coastal Hwy:geo:38.386918,-75.06
 6421
GEO:38.386918;-75.066421
SUMMARY:\"Adult Recess\,\" Happy Hour Specials at Border Bar
CLASS:PUBLIC
DESCRIPTION:TODAY'S HAPPY HOUR SPECIALS \n \n\n *  Half-order of Nachos 
 from Barrio or Smoked Meatloaf Sliders from\nAnnabelle’s\, each just $9!
  Add on $1.25 baked oysters or choose from\nour wing specials\n\n
X-ALT-DESC;FMTTYPE=text/html:<p><strong>Today&#39\;s Happy Hour Specials&nb
 sp\;</strong><br />\n&nbsp\;</p>\n\n<ul>\n<li>&nbsp\;Half-order of Nachos 
 from Barrio or Smoked Meatloaf Sliders from Annabelle&rsquo\;s\, each just
  $9! Add on $1.25 baked oysters or choose from our wing specials</li>\n</u
 l>
DTSTAMP:20260424T170712Z
END:VEVENT
BEGIN:VEVENT
UID:7272026-04-302026-04-30
DTSTART:20260430T190000Z
SEQUENCE:0
TRANSP:OPAQUE
DTEND:20260430T190000Z
LOCATION:6401 Coastal Hwy\nOcean City MD 21842
X-APPLE-STRUCTURED-LOCATION;VALUE=URI;X-ADDRESS=6401 Coastal Hwy\nOcean Cit
 y MD 21842;X-APPLE-RADIUS=49;X-TITLE=6401 Coastal Hwy:geo:38.386918,-75.06
 6421
GEO:38.386918;-75.066421
SUMMARY:\"Adult Recess\,\" Happy Hour Specials at Border Bar
CLASS:PUBLIC
DESCRIPTION:TODAY'S HAPPY HOUR SPECIALS \n \n\n *  Half-order of Nachos 
 from Barrio or Smoked Meatloaf Sliders from\nAnnabelle’s\, each just $9!
  Add on $1.25 baked oysters or choose from\nour wing specials\n\n
X-ALT-DESC;FMTTYPE=text/html:<p><strong>Today&#39\;s Happy Hour Specials&nb
 sp\;</strong><br />\n&nbsp\;</p>\n\n<ul>\n<li>&nbsp\;Half-order of Nachos 
 from Barrio or Smoked Meatloaf Sliders from Annabelle&rsquo\;s\, each just
  $9! Add on $1.25 baked oysters or choose from our wing specials</li>\n</u
 l>
DTSTAMP:20260424T170712Z
END:VEVENT
BEGIN:VEVENT
UID:7272026-05-012026-05-01
DTSTART:20260501T190000Z
SEQUENCE:0
TRANSP:OPAQUE
DTEND:20260501T190000Z
LOCATION:6401 Coastal Hwy\nOcean City MD 21842
X-APPLE-STRUCTURED-LOCATION;VALUE=URI;X-ADDRESS=6401 Coastal Hwy\nOcean Cit
 y MD 21842;X-APPLE-RADIUS=49;X-TITLE=6401 Coastal Hwy:geo:38.386918,-75.06
 6421
GEO:38.386918;-75.066421
SUMMARY:\"Adult Recess\,\" Happy Hour Specials at Border Bar
CLASS:PUBLIC
DESCRIPTION:TODAY'S HAPPY HOUR SPECIALS \n \n\n *  Half-order of Nachos 
 from Barrio or Smoked Meatloaf Sliders from\nAnnabelle’s\, each just $9!
  Add on $1.25 baked oysters or choose from\nour wing specials\n\n
X-ALT-DESC;FMTTYPE=text/html:<p><strong>Today&#39\;s Happy Hour Specials&nb
 sp\;</strong><br />\n&nbsp\;</p>\n\n<ul>\n<li>&nbsp\;Half-order of Nachos 
 from Barrio or Smoked Meatloaf Sliders from Annabelle&rsquo\;s\, each just
  $9! Add on $1.25 baked oysters or choose from our wing specials</li>\n</u
 l>
DTSTAMP:20260424T170712Z
END:VEVENT
BEGIN:VEVENT
UID:7272026-05-072026-05-07
DTSTART:20260507T190000Z
SEQUENCE:0
TRANSP:OPAQUE
DTEND:20260507T190000Z
LOCATION:6401 Coastal Hwy\nOcean City MD 21842
X-APPLE-STRUCTURED-LOCATION;VALUE=URI;X-ADDRESS=6401 Coastal Hwy\nOcean Cit
 y MD 21842;X-APPLE-RADIUS=49;X-TITLE=6401 Coastal Hwy:geo:38.386918,-75.06
 6421
GEO:38.386918;-75.066421
SUMMARY:\"Adult Recess\,\" Happy Hour Specials at Border Bar
CLASS:PUBLIC
DESCRIPTION:TODAY'S HAPPY HOUR SPECIALS \n \n\n *  Half-order of Nachos 
 from Barrio or Smoked Meatloaf Sliders from\nAnnabelle’s\, each just $9!
  Add on $1.25 baked oysters or choose from\nour wing specials\n\n
X-ALT-DESC;FMTTYPE=text/html:<p><strong>Today&#39\;s Happy Hour Specials&nb
 sp\;</strong><br />\n&nbsp\;</p>\n\n<ul>\n<li>&nbsp\;Half-order of Nachos 
 from Barrio or Smoked Meatloaf Sliders from Annabelle&rsquo\;s\, each just
  $9! Add on $1.25 baked oysters or choose from our wing specials</li>\n</u
 l>
DTSTAMP:20260424T170712Z
END:VEVENT
BEGIN:VEVENT
UID:7272026-05-082026-05-08
DTSTART:20260508T190000Z
SEQUENCE:0
TRANSP:OPAQUE
DTEND:20260508T190000Z
LOCATION:6401 Coastal Hwy\nOcean City MD 21842
X-APPLE-STRUCTURED-LOCATION;VALUE=URI;X-ADDRESS=6401 Coastal Hwy\nOcean Cit
 y MD 21842;X-APPLE-RADIUS=49;X-TITLE=6401 Coastal Hwy:geo:38.386918,-75.06
 6421
GEO:38.386918;-75.066421
SUMMARY:\"Adult Recess\,\" Happy Hour Specials at Border Bar
CLASS:PUBLIC
DESCRIPTION:TODAY'S HAPPY HOUR SPECIALS \n \n\n *  Half-order of Nachos 
 from Barrio or Smoked Meatloaf Sliders from\nAnnabelle’s\, each just $9!
  Add on $1.25 baked oysters or choose from\nour wing specials\n\n
X-ALT-DESC;FMTTYPE=text/html:<p><strong>Today&#39\;s Happy Hour Specials&nb
 sp\;</strong><br />\n&nbsp\;</p>\n\n<ul>\n<li>&nbsp\;Half-order of Nachos 
 from Barrio or Smoked Meatloaf Sliders from Annabelle&rsquo\;s\, each just
  $9! Add on $1.25 baked oysters or choose from our wing specials</li>\n</u
 l>
DTSTAMP:20260424T170712Z
END:VEVENT
BEGIN:VEVENT
UID:7272026-05-142026-05-14
DTSTART:20260514T190000Z
SEQUENCE:0
TRANSP:OPAQUE
DTEND:20260514T190000Z
LOCATION:6401 Coastal Hwy\nOcean City MD 21842
X-APPLE-STRUCTURED-LOCATION;VALUE=URI;X-ADDRESS=6401 Coastal Hwy\nOcean Cit
 y MD 21842;X-APPLE-RADIUS=49;X-TITLE=6401 Coastal Hwy:geo:38.386918,-75.06
 6421
GEO:38.386918;-75.066421
SUMMARY:\"Adult Recess\,\" Happy Hour Specials at Border Bar
CLASS:PUBLIC
DESCRIPTION:TODAY'S HAPPY HOUR SPECIALS \n \n\n *  Half-order of Nachos 
 from Barrio or Smoked Meatloaf Sliders from\nAnnabelle’s\, each just $9!
  Add on $1.25 baked oysters or choose from\nour wing specials\n\n
X-ALT-DESC;FMTTYPE=text/html:<p><strong>Today&#39\;s Happy Hour Specials&nb
 sp\;</strong><br />\n&nbsp\;</p>\n\n<ul>\n<li>&nbsp\;Half-order of Nachos 
 from Barrio or Smoked Meatloaf Sliders from Annabelle&rsquo\;s\, each just
  $9! Add on $1.25 baked oysters or choose from our wing specials</li>\n</u
 l>
DTSTAMP:20260424T170712Z
END:VEVENT
BEGIN:VEVENT
UID:7272026-05-152026-05-15
DTSTART:20260515T190000Z
SEQUENCE:0
TRANSP:OPAQUE
DTEND:20260515T190000Z
LOCATION:6401 Coastal Hwy\nOcean City MD 21842
X-APPLE-STRUCTURED-LOCATION;VALUE=URI;X-ADDRESS=6401 Coastal Hwy\nOcean Cit
 y MD 21842;X-APPLE-RADIUS=49;X-TITLE=6401 Coastal Hwy:geo:38.386918,-75.06
 6421
GEO:38.386918;-75.066421
SUMMARY:\"Adult Recess\,\" Happy Hour Specials at Border Bar
CLASS:PUBLIC
DESCRIPTION:TODAY'S HAPPY HOUR SPECIALS \n \n\n *  Half-order of Nachos 
 from Barrio or Smoked Meatloaf Sliders from\nAnnabelle’s\, each just $9!
  Add on $1.25 baked oysters or choose from\nour wing specials\n\n
X-ALT-DESC;FMTTYPE=text/html:<p><strong>Today&#39\;s Happy Hour Specials&nb
 sp\;</strong><br />\n&nbsp\;</p>\n\n<ul>\n<li>&nbsp\;Half-order of Nachos 
 from Barrio or Smoked Meatloaf Sliders from Annabelle&rsquo\;s\, each just
  $9! Add on $1.25 baked oysters or choose from our wing specials</li>\n</u
 l>
DTSTAMP:20260424T170712Z
END:VEVENT
BEGIN:VEVENT
UID:7272026-05-212026-05-21
DTSTART:20260521T190000Z
SEQUENCE:0
TRANSP:OPAQUE
DTEND:20260521T190000Z
LOCATION:6401 Coastal Hwy\nOcean City MD 21842
X-APPLE-STRUCTURED-LOCATION;VALUE=URI;X-ADDRESS=6401 Coastal Hwy\nOcean Cit
 y MD 21842;X-APPLE-RADIUS=49;X-TITLE=6401 Coastal Hwy:geo:38.386918,-75.06
 6421
GEO:38.386918;-75.066421
SUMMARY:\"Adult Recess\,\" Happy Hour Specials at Border Bar
CLASS:PUBLIC
DESCRIPTION:TODAY'S HAPPY HOUR SPECIALS \n \n\n *  Half-order of Nachos 
 from Barrio or Smoked Meatloaf Sliders from\nAnnabelle’s\, each just $9!
  Add on $1.25 baked oysters or choose from\nour wing specials\n\n
X-ALT-DESC;FMTTYPE=text/html:<p><strong>Today&#39\;s Happy Hour Specials&nb
 sp\;</strong><br />\n&nbsp\;</p>\n\n<ul>\n<li>&nbsp\;Half-order of Nachos 
 from Barrio or Smoked Meatloaf Sliders from Annabelle&rsquo\;s\, each just
  $9! Add on $1.25 baked oysters or choose from our wing specials</li>\n</u
 l>
DTSTAMP:20260424T170712Z
END:VEVENT
BEGIN:VEVENT
UID:7272026-05-222026-05-22
DTSTART:20260522T190000Z
SEQUENCE:0
TRANSP:OPAQUE
DTEND:20260522T190000Z
LOCATION:6401 Coastal Hwy\nOcean City MD 21842
X-APPLE-STRUCTURED-LOCATION;VALUE=URI;X-ADDRESS=6401 Coastal Hwy\nOcean Cit
 y MD 21842;X-APPLE-RADIUS=49;X-TITLE=6401 Coastal Hwy:geo:38.386918,-75.06
 6421
GEO:38.386918;-75.066421
SUMMARY:\"Adult Recess\,\" Happy Hour Specials at Border Bar
CLASS:PUBLIC
DESCRIPTION:TODAY'S HAPPY HOUR SPECIALS \n \n\n *  Half-order of Nachos 
 from Barrio or Smoked Meatloaf Sliders from\nAnnabelle’s\, each just $9!
  Add on $1.25 baked oysters or choose from\nour wing specials\n\n
X-ALT-DESC;FMTTYPE=text/html:<p><strong>Today&#39\;s Happy Hour Specials&nb
 sp\;</strong><br />\n&nbsp\;</p>\n\n<ul>\n<li>&nbsp\;Half-order of Nachos 
 from Barrio or Smoked Meatloaf Sliders from Annabelle&rsquo\;s\, each just
  $9! Add on $1.25 baked oysters or choose from our wing specials</li>\n</u
 l>
DTSTAMP:20260424T170712Z
END:VEVENT
BEGIN:VEVENT
UID:7272026-05-282026-05-28
DTSTART:20260528T190000Z
SEQUENCE:0
TRANSP:OPAQUE
DTEND:20260528T190000Z
LOCATION:6401 Coastal Hwy\nOcean City MD 21842
X-APPLE-STRUCTURED-LOCATION;VALUE=URI;X-ADDRESS=6401 Coastal Hwy\nOcean Cit
 y MD 21842;X-APPLE-RADIUS=49;X-TITLE=6401 Coastal Hwy:geo:38.386918,-75.06
 6421
GEO:38.386918;-75.066421
SUMMARY:\"Adult Recess\,\" Happy Hour Specials at Border Bar
CLASS:PUBLIC
DESCRIPTION:TODAY'S HAPPY HOUR SPECIALS \n \n\n *  Half-order of Nachos 
 from Barrio or Smoked Meatloaf Sliders from\nAnnabelle’s\, each just $9!
  Add on $1.25 baked oysters or choose from\nour wing specials\n\n
X-ALT-DESC;FMTTYPE=text/html:<p><strong>Today&#39\;s Happy Hour Specials&nb
 sp\;</strong><br />\n&nbsp\;</p>\n\n<ul>\n<li>&nbsp\;Half-order of Nachos 
 from Barrio or Smoked Meatloaf Sliders from Annabelle&rsquo\;s\, each just
  $9! Add on $1.25 baked oysters or choose from our wing specials</li>\n</u
 l>
DTSTAMP:20260424T170712Z
END:VEVENT
BEGIN:VEVENT
UID:7272026-05-292026-05-29
DTSTART:20260529T190000Z
SEQUENCE:0
TRANSP:OPAQUE
DTEND:20260529T190000Z
LOCATION:6401 Coastal Hwy\nOcean City MD 21842
X-APPLE-STRUCTURED-LOCATION;VALUE=URI;X-ADDRESS=6401 Coastal Hwy\nOcean Cit
 y MD 21842;X-APPLE-RADIUS=49;X-TITLE=6401 Coastal Hwy:geo:38.386918,-75.06
 6421
GEO:38.386918;-75.066421
SUMMARY:\"Adult Recess\,\" Happy Hour Specials at Border Bar
CLASS:PUBLIC
DESCRIPTION:TODAY'S HAPPY HOUR SPECIALS \n \n\n *  Half-order of Nachos 
 from Barrio or Smoked Meatloaf Sliders from\nAnnabelle’s\, each just $9!
  Add on $1.25 baked oysters or choose from\nour wing specials\n\n
X-ALT-DESC;FMTTYPE=text/html:<p><strong>Today&#39\;s Happy Hour Specials&nb
 sp\;</strong><br />\n&nbsp\;</p>\n\n<ul>\n<li>&nbsp\;Half-order of Nachos 
 from Barrio or Smoked Meatloaf Sliders from Annabelle&rsquo\;s\, each just
  $9! Add on $1.25 baked oysters or choose from our wing specials</li>\n</u
 l>
DTSTAMP:20260424T170712Z
END:VEVENT
END:VCALENDAR