BEGIN:VCALENDAR
VERSION:2.0
PRODID:cigoldcoast.exploreoc.com
X-WR-CALNAME:Spring Into Savings at Quiet Storm Surf Shops
BEGIN:VEVENT
UID:7542026-04-232026-04-23
DTSTART;VALUE=DATE:20260423
SEQUENCE:0
TRANSP:OPAQUE
DTEND;VALUE=DATE:20260424
LOCATION:7409 Coastal Hwy\nOcean City MD 21842
X-APPLE-STRUCTURED-LOCATION;VALUE=URI;X-ADDRESS=7409 Coastal Hwy\nOcean Cit
 y MD 21842;X-APPLE-RADIUS=49;X-TITLE=7409 Coastal Hwy:geo:38.395228,-75.06
 3378
GEO:38.395228;-75.063378
SUMMARY:Spring Into Savings at Quiet Storm Surf Shops
CLASS:PUBLIC
DESCRIPTION:SHOP FRESH NEW SPRING STYLES AT QUIET STORM SURF SHOP\n\n_THE B
 IG SPRING SALE_\n\n * Unisex Fleece $20 Off\n * Women's Fleece $20 Off\n *
  Men's Shorts $20 Off\n * Men's Button Ups $20 Off\n * S/S T-Shirts $5 Off
 \n * Sandals 50% Off  (Men's & Women's Styles)\n * Tech Shirts 50% Off (L
 ong Sleeve/Hooded/UPF 50+)\n * Hats $5 Off\n\n
X-ALT-DESC;FMTTYPE=text/html:<p><strong>Shop Fresh New Spring Styles at Qui
 et Storm Surf Shop</strong></p>\n\n<p><em><strong>The Big Spring Sale</str
 ong></em></p>\n\n<ul>\n<li>Unisex Fleece $20 Off</li>\n<li>Women&#39\;s Fl
 eece $20 Off</li>\n<li>Men&#39\;s Shorts $20 Off</li>\n<li>Men&#39\;s Butt
 on Ups $20 Off</li>\n<li>S/S T-Shirts $5 Off</li>\n<li>Sandals 50% Off&nbs
 p\; (Men&#39\;s &amp\; Women&#39\;s Styles)</li>\n<li>Tech Shirts 50% Off 
 (Long Sleeve/Hooded/UPF 50+)</li>\n<li>Hats $5 Off</li>\n</ul>
X-MICROSOFT-CDO-ALLDAYEVENT:TRUE
DTSTAMP:20260424T124156Z
END:VEVENT
BEGIN:VEVENT
UID:7542026-04-242026-04-24
DTSTART;VALUE=DATE:20260424
SEQUENCE:0
TRANSP:OPAQUE
DTEND;VALUE=DATE:20260425
LOCATION:7409 Coastal Hwy\nOcean City MD 21842
X-APPLE-STRUCTURED-LOCATION;VALUE=URI;X-ADDRESS=7409 Coastal Hwy\nOcean Cit
 y MD 21842;X-APPLE-RADIUS=49;X-TITLE=7409 Coastal Hwy:geo:38.395228,-75.06
 3378
GEO:38.395228;-75.063378
SUMMARY:Spring Into Savings at Quiet Storm Surf Shops
CLASS:PUBLIC
DESCRIPTION:SHOP FRESH NEW SPRING STYLES AT QUIET STORM SURF SHOP\n\n_THE B
 IG SPRING SALE_\n\n * Unisex Fleece $20 Off\n * Women's Fleece $20 Off\n *
  Men's Shorts $20 Off\n * Men's Button Ups $20 Off\n * S/S T-Shirts $5 Off
 \n * Sandals 50% Off  (Men's & Women's Styles)\n * Tech Shirts 50% Off (L
 ong Sleeve/Hooded/UPF 50+)\n * Hats $5 Off\n\n
X-ALT-DESC;FMTTYPE=text/html:<p><strong>Shop Fresh New Spring Styles at Qui
 et Storm Surf Shop</strong></p>\n\n<p><em><strong>The Big Spring Sale</str
 ong></em></p>\n\n<ul>\n<li>Unisex Fleece $20 Off</li>\n<li>Women&#39\;s Fl
 eece $20 Off</li>\n<li>Men&#39\;s Shorts $20 Off</li>\n<li>Men&#39\;s Butt
 on Ups $20 Off</li>\n<li>S/S T-Shirts $5 Off</li>\n<li>Sandals 50% Off&nbs
 p\; (Men&#39\;s &amp\; Women&#39\;s Styles)</li>\n<li>Tech Shirts 50% Off 
 (Long Sleeve/Hooded/UPF 50+)</li>\n<li>Hats $5 Off</li>\n</ul>
X-MICROSOFT-CDO-ALLDAYEVENT:TRUE
DTSTAMP:20260424T124156Z
END:VEVENT
BEGIN:VEVENT
UID:7542026-04-252026-04-25
DTSTART;VALUE=DATE:20260425
SEQUENCE:0
TRANSP:OPAQUE
DTEND;VALUE=DATE:20260426
LOCATION:7409 Coastal Hwy\nOcean City MD 21842
X-APPLE-STRUCTURED-LOCATION;VALUE=URI;X-ADDRESS=7409 Coastal Hwy\nOcean Cit
 y MD 21842;X-APPLE-RADIUS=49;X-TITLE=7409 Coastal Hwy:geo:38.395228,-75.06
 3378
GEO:38.395228;-75.063378
SUMMARY:Spring Into Savings at Quiet Storm Surf Shops
CLASS:PUBLIC
DESCRIPTION:SHOP FRESH NEW SPRING STYLES AT QUIET STORM SURF SHOP\n\n_THE B
 IG SPRING SALE_\n\n * Unisex Fleece $20 Off\n * Women's Fleece $20 Off\n *
  Men's Shorts $20 Off\n * Men's Button Ups $20 Off\n * S/S T-Shirts $5 Off
 \n * Sandals 50% Off  (Men's & Women's Styles)\n * Tech Shirts 50% Off (L
 ong Sleeve/Hooded/UPF 50+)\n * Hats $5 Off\n\n
X-ALT-DESC;FMTTYPE=text/html:<p><strong>Shop Fresh New Spring Styles at Qui
 et Storm Surf Shop</strong></p>\n\n<p><em><strong>The Big Spring Sale</str
 ong></em></p>\n\n<ul>\n<li>Unisex Fleece $20 Off</li>\n<li>Women&#39\;s Fl
 eece $20 Off</li>\n<li>Men&#39\;s Shorts $20 Off</li>\n<li>Men&#39\;s Butt
 on Ups $20 Off</li>\n<li>S/S T-Shirts $5 Off</li>\n<li>Sandals 50% Off&nbs
 p\; (Men&#39\;s &amp\; Women&#39\;s Styles)</li>\n<li>Tech Shirts 50% Off 
 (Long Sleeve/Hooded/UPF 50+)</li>\n<li>Hats $5 Off</li>\n</ul>
X-MICROSOFT-CDO-ALLDAYEVENT:TRUE
DTSTAMP:20260424T124156Z
END:VEVENT
BEGIN:VEVENT
UID:7542026-04-262026-04-26
DTSTART;VALUE=DATE:20260426
SEQUENCE:0
TRANSP:OPAQUE
DTEND;VALUE=DATE:20260427
LOCATION:7409 Coastal Hwy\nOcean City MD 21842
X-APPLE-STRUCTURED-LOCATION;VALUE=URI;X-ADDRESS=7409 Coastal Hwy\nOcean Cit
 y MD 21842;X-APPLE-RADIUS=49;X-TITLE=7409 Coastal Hwy:geo:38.395228,-75.06
 3378
GEO:38.395228;-75.063378
SUMMARY:Spring Into Savings at Quiet Storm Surf Shops
CLASS:PUBLIC
DESCRIPTION:SHOP FRESH NEW SPRING STYLES AT QUIET STORM SURF SHOP\n\n_THE B
 IG SPRING SALE_\n\n * Unisex Fleece $20 Off\n * Women's Fleece $20 Off\n *
  Men's Shorts $20 Off\n * Men's Button Ups $20 Off\n * S/S T-Shirts $5 Off
 \n * Sandals 50% Off  (Men's & Women's Styles)\n * Tech Shirts 50% Off (L
 ong Sleeve/Hooded/UPF 50+)\n * Hats $5 Off\n\n
X-ALT-DESC;FMTTYPE=text/html:<p><strong>Shop Fresh New Spring Styles at Qui
 et Storm Surf Shop</strong></p>\n\n<p><em><strong>The Big Spring Sale</str
 ong></em></p>\n\n<ul>\n<li>Unisex Fleece $20 Off</li>\n<li>Women&#39\;s Fl
 eece $20 Off</li>\n<li>Men&#39\;s Shorts $20 Off</li>\n<li>Men&#39\;s Butt
 on Ups $20 Off</li>\n<li>S/S T-Shirts $5 Off</li>\n<li>Sandals 50% Off&nbs
 p\; (Men&#39\;s &amp\; Women&#39\;s Styles)</li>\n<li>Tech Shirts 50% Off 
 (Long Sleeve/Hooded/UPF 50+)</li>\n<li>Hats $5 Off</li>\n</ul>
X-MICROSOFT-CDO-ALLDAYEVENT:TRUE
DTSTAMP:20260424T124156Z
END:VEVENT
BEGIN:VEVENT
UID:7542026-04-272026-04-27
DTSTART;VALUE=DATE:20260427
SEQUENCE:0
TRANSP:OPAQUE
DTEND;VALUE=DATE:20260428
LOCATION:7409 Coastal Hwy\nOcean City MD 21842
X-APPLE-STRUCTURED-LOCATION;VALUE=URI;X-ADDRESS=7409 Coastal Hwy\nOcean Cit
 y MD 21842;X-APPLE-RADIUS=49;X-TITLE=7409 Coastal Hwy:geo:38.395228,-75.06
 3378
GEO:38.395228;-75.063378
SUMMARY:Spring Into Savings at Quiet Storm Surf Shops
CLASS:PUBLIC
DESCRIPTION:SHOP FRESH NEW SPRING STYLES AT QUIET STORM SURF SHOP\n\n_THE B
 IG SPRING SALE_\n\n * Unisex Fleece $20 Off\n * Women's Fleece $20 Off\n *
  Men's Shorts $20 Off\n * Men's Button Ups $20 Off\n * S/S T-Shirts $5 Off
 \n * Sandals 50% Off  (Men's & Women's Styles)\n * Tech Shirts 50% Off (L
 ong Sleeve/Hooded/UPF 50+)\n * Hats $5 Off\n\n
X-ALT-DESC;FMTTYPE=text/html:<p><strong>Shop Fresh New Spring Styles at Qui
 et Storm Surf Shop</strong></p>\n\n<p><em><strong>The Big Spring Sale</str
 ong></em></p>\n\n<ul>\n<li>Unisex Fleece $20 Off</li>\n<li>Women&#39\;s Fl
 eece $20 Off</li>\n<li>Men&#39\;s Shorts $20 Off</li>\n<li>Men&#39\;s Butt
 on Ups $20 Off</li>\n<li>S/S T-Shirts $5 Off</li>\n<li>Sandals 50% Off&nbs
 p\; (Men&#39\;s &amp\; Women&#39\;s Styles)</li>\n<li>Tech Shirts 50% Off 
 (Long Sleeve/Hooded/UPF 50+)</li>\n<li>Hats $5 Off</li>\n</ul>
X-MICROSOFT-CDO-ALLDAYEVENT:TRUE
DTSTAMP:20260424T124156Z
END:VEVENT
BEGIN:VEVENT
UID:7542026-04-282026-04-28
DTSTART;VALUE=DATE:20260428
SEQUENCE:0
TRANSP:OPAQUE
DTEND;VALUE=DATE:20260429
LOCATION:7409 Coastal Hwy\nOcean City MD 21842
X-APPLE-STRUCTURED-LOCATION;VALUE=URI;X-ADDRESS=7409 Coastal Hwy\nOcean Cit
 y MD 21842;X-APPLE-RADIUS=49;X-TITLE=7409 Coastal Hwy:geo:38.395228,-75.06
 3378
GEO:38.395228;-75.063378
SUMMARY:Spring Into Savings at Quiet Storm Surf Shops
CLASS:PUBLIC
DESCRIPTION:SHOP FRESH NEW SPRING STYLES AT QUIET STORM SURF SHOP\n\n_THE B
 IG SPRING SALE_\n\n * Unisex Fleece $20 Off\n * Women's Fleece $20 Off\n *
  Men's Shorts $20 Off\n * Men's Button Ups $20 Off\n * S/S T-Shirts $5 Off
 \n * Sandals 50% Off  (Men's & Women's Styles)\n * Tech Shirts 50% Off (L
 ong Sleeve/Hooded/UPF 50+)\n * Hats $5 Off\n\n
X-ALT-DESC;FMTTYPE=text/html:<p><strong>Shop Fresh New Spring Styles at Qui
 et Storm Surf Shop</strong></p>\n\n<p><em><strong>The Big Spring Sale</str
 ong></em></p>\n\n<ul>\n<li>Unisex Fleece $20 Off</li>\n<li>Women&#39\;s Fl
 eece $20 Off</li>\n<li>Men&#39\;s Shorts $20 Off</li>\n<li>Men&#39\;s Butt
 on Ups $20 Off</li>\n<li>S/S T-Shirts $5 Off</li>\n<li>Sandals 50% Off&nbs
 p\; (Men&#39\;s &amp\; Women&#39\;s Styles)</li>\n<li>Tech Shirts 50% Off 
 (Long Sleeve/Hooded/UPF 50+)</li>\n<li>Hats $5 Off</li>\n</ul>
X-MICROSOFT-CDO-ALLDAYEVENT:TRUE
DTSTAMP:20260424T124156Z
END:VEVENT
BEGIN:VEVENT
UID:7542026-04-292026-04-29
DTSTART;VALUE=DATE:20260429
SEQUENCE:0
TRANSP:OPAQUE
DTEND;VALUE=DATE:20260430
LOCATION:7409 Coastal Hwy\nOcean City MD 21842
X-APPLE-STRUCTURED-LOCATION;VALUE=URI;X-ADDRESS=7409 Coastal Hwy\nOcean Cit
 y MD 21842;X-APPLE-RADIUS=49;X-TITLE=7409 Coastal Hwy:geo:38.395228,-75.06
 3378
GEO:38.395228;-75.063378
SUMMARY:Spring Into Savings at Quiet Storm Surf Shops
CLASS:PUBLIC
DESCRIPTION:SHOP FRESH NEW SPRING STYLES AT QUIET STORM SURF SHOP\n\n_THE B
 IG SPRING SALE_\n\n * Unisex Fleece $20 Off\n * Women's Fleece $20 Off\n *
  Men's Shorts $20 Off\n * Men's Button Ups $20 Off\n * S/S T-Shirts $5 Off
 \n * Sandals 50% Off  (Men's & Women's Styles)\n * Tech Shirts 50% Off (L
 ong Sleeve/Hooded/UPF 50+)\n * Hats $5 Off\n\n
X-ALT-DESC;FMTTYPE=text/html:<p><strong>Shop Fresh New Spring Styles at Qui
 et Storm Surf Shop</strong></p>\n\n<p><em><strong>The Big Spring Sale</str
 ong></em></p>\n\n<ul>\n<li>Unisex Fleece $20 Off</li>\n<li>Women&#39\;s Fl
 eece $20 Off</li>\n<li>Men&#39\;s Shorts $20 Off</li>\n<li>Men&#39\;s Butt
 on Ups $20 Off</li>\n<li>S/S T-Shirts $5 Off</li>\n<li>Sandals 50% Off&nbs
 p\; (Men&#39\;s &amp\; Women&#39\;s Styles)</li>\n<li>Tech Shirts 50% Off 
 (Long Sleeve/Hooded/UPF 50+)</li>\n<li>Hats $5 Off</li>\n</ul>
X-MICROSOFT-CDO-ALLDAYEVENT:TRUE
DTSTAMP:20260424T124156Z
END:VEVENT
BEGIN:VEVENT
UID:7542026-04-302026-04-30
DTSTART;VALUE=DATE:20260430
SEQUENCE:0
TRANSP:OPAQUE
DTEND;VALUE=DATE:20260501
LOCATION:7409 Coastal Hwy\nOcean City MD 21842
X-APPLE-STRUCTURED-LOCATION;VALUE=URI;X-ADDRESS=7409 Coastal Hwy\nOcean Cit
 y MD 21842;X-APPLE-RADIUS=49;X-TITLE=7409 Coastal Hwy:geo:38.395228,-75.06
 3378
GEO:38.395228;-75.063378
SUMMARY:Spring Into Savings at Quiet Storm Surf Shops
CLASS:PUBLIC
DESCRIPTION:SHOP FRESH NEW SPRING STYLES AT QUIET STORM SURF SHOP\n\n_THE B
 IG SPRING SALE_\n\n * Unisex Fleece $20 Off\n * Women's Fleece $20 Off\n *
  Men's Shorts $20 Off\n * Men's Button Ups $20 Off\n * S/S T-Shirts $5 Off
 \n * Sandals 50% Off  (Men's & Women's Styles)\n * Tech Shirts 50% Off (L
 ong Sleeve/Hooded/UPF 50+)\n * Hats $5 Off\n\n
X-ALT-DESC;FMTTYPE=text/html:<p><strong>Shop Fresh New Spring Styles at Qui
 et Storm Surf Shop</strong></p>\n\n<p><em><strong>The Big Spring Sale</str
 ong></em></p>\n\n<ul>\n<li>Unisex Fleece $20 Off</li>\n<li>Women&#39\;s Fl
 eece $20 Off</li>\n<li>Men&#39\;s Shorts $20 Off</li>\n<li>Men&#39\;s Butt
 on Ups $20 Off</li>\n<li>S/S T-Shirts $5 Off</li>\n<li>Sandals 50% Off&nbs
 p\; (Men&#39\;s &amp\; Women&#39\;s Styles)</li>\n<li>Tech Shirts 50% Off 
 (Long Sleeve/Hooded/UPF 50+)</li>\n<li>Hats $5 Off</li>\n</ul>
X-MICROSOFT-CDO-ALLDAYEVENT:TRUE
DTSTAMP:20260424T124156Z
END:VEVENT
BEGIN:VEVENT
UID:7542026-05-012026-05-01
DTSTART;VALUE=DATE:20260501
SEQUENCE:0
TRANSP:OPAQUE
DTEND;VALUE=DATE:20260502
LOCATION:7409 Coastal Hwy\nOcean City MD 21842
X-APPLE-STRUCTURED-LOCATION;VALUE=URI;X-ADDRESS=7409 Coastal Hwy\nOcean Cit
 y MD 21842;X-APPLE-RADIUS=49;X-TITLE=7409 Coastal Hwy:geo:38.395228,-75.06
 3378
GEO:38.395228;-75.063378
SUMMARY:Spring Into Savings at Quiet Storm Surf Shops
CLASS:PUBLIC
DESCRIPTION:SHOP FRESH NEW SPRING STYLES AT QUIET STORM SURF SHOP\n\n_THE B
 IG SPRING SALE_\n\n * Unisex Fleece $20 Off\n * Women's Fleece $20 Off\n *
  Men's Shorts $20 Off\n * Men's Button Ups $20 Off\n * S/S T-Shirts $5 Off
 \n * Sandals 50% Off  (Men's & Women's Styles)\n * Tech Shirts 50% Off (L
 ong Sleeve/Hooded/UPF 50+)\n * Hats $5 Off\n\n
X-ALT-DESC;FMTTYPE=text/html:<p><strong>Shop Fresh New Spring Styles at Qui
 et Storm Surf Shop</strong></p>\n\n<p><em><strong>The Big Spring Sale</str
 ong></em></p>\n\n<ul>\n<li>Unisex Fleece $20 Off</li>\n<li>Women&#39\;s Fl
 eece $20 Off</li>\n<li>Men&#39\;s Shorts $20 Off</li>\n<li>Men&#39\;s Butt
 on Ups $20 Off</li>\n<li>S/S T-Shirts $5 Off</li>\n<li>Sandals 50% Off&nbs
 p\; (Men&#39\;s &amp\; Women&#39\;s Styles)</li>\n<li>Tech Shirts 50% Off 
 (Long Sleeve/Hooded/UPF 50+)</li>\n<li>Hats $5 Off</li>\n</ul>
X-MICROSOFT-CDO-ALLDAYEVENT:TRUE
DTSTAMP:20260424T124156Z
END:VEVENT
END:VCALENDAR